BEGIN:VCALENDAR
VERSION:2.0
PRODID:-//Plone.org//NONSGML plone.app.event//EN
X-WR-TIMEZONE:Brazil/East
BEGIN:VEVENT
SUMMARY:Audiência pública sobre o residencial Vila Jardim
DTSTART;TZID=Brazil/East;VALUE=DATE-TIME:20170911T090000
DTEND;TZID=Brazil/East;VALUE=DATE-TIME:20170911T120000
DTSTAMP;VALUE=DATE-TIME:20260419T094646Z
UID:66a3e287442c45ac8e29f5345b3310e7@www.boavista.rr.leg.br
CREATED;VALUE=DATE-TIME:20171002T140631Z
DESCRIPTION:A Câmara Municipal de Boa Vista realiza no dia 11 de setembro
 \, a partir das 9 horas\, no plenário Estácio Pereira de Mello\, uma aud
 iência pública para tratar sobre o residencial Vila Jardim. O vereador 
 Ítalo Otávio (PR) é o requerente do evento.
LAST-MODIFIED;VALUE=DATE-TIME:20171002T140717Z
LOCATION:Plenário Estácio Pereira de Mello
URL:https://www.boavista.rr.leg.br/institucional/eventos/audiencia-publica
 -sobre-o-residencial-vila-jardim
END:VEVENT
BEGIN:VTIMEZONE
TZID:Brazil/East
X-LIC-LOCATION:Brazil/East
BEGIN:STANDARD
DTSTART;VALUE=DATE-TIME:20170218T230000
TZNAME:BRT
TZOFFSETFROM:-0200
TZOFFSETTO:-0300
END:STANDARD
END:VTIMEZONE
END:VCALENDAR
