BEGIN:VCALENDAR
VERSION:2.0
PRODID:-//Plone.org//NONSGML plone.app.event//EN
X-WR-TIMEZONE:Brazil/East
BEGIN:VEVENT
SUMMARY:Audiência pública sobre o desaparecimento e tráfico de pessoas 
 em Boa Vista
DTSTART;TZID=Brazil/East;VALUE=DATE-TIME:20171109T090000
DTEND;TZID=Brazil/East;VALUE=DATE-TIME:20171109T120000
DTSTAMP;VALUE=DATE-TIME:20260421T005646Z
UID:2a5c1e5bed4446209b5277c147cd1566@www.boavista.rr.leg.br
CREATED;VALUE=DATE-TIME:20171002T134101Z
DESCRIPTION:A Câmara Municipal de Boa Vista realiza no dia 9 de novembro 
 uma audiência pública para discutir o combate ao desaparecimento e o tr
 áfico de pessoas na capital. O evento foi solicitado pelo vice-presidente
  Júlio Medeiros (Podemos)\, por meio de requerimento aprovado por unanimi
 dade pelo plenário da Casa.
LAST-MODIFIED;VALUE=DATE-TIME:20171002T134107Z
URL:https://www.boavista.rr.leg.br/institucional/eventos/audiencia-publica
 -sobre-o-desaparecimento-e-trafico-de-pessoas-em-boa-vista
END:VEVENT
BEGIN:VTIMEZONE
TZID:Brazil/East
X-LIC-LOCATION:Brazil/East
BEGIN:DAYLIGHT
DTSTART;VALUE=DATE-TIME:20171015T010000
TZNAME:BRST
TZOFFSETFROM:-0300
TZOFFSETTO:-0200
END:DAYLIGHT
END:VTIMEZONE
END:VCALENDAR
