BEGIN:VCALENDAR
VERSION:2.0
PRODID:-//Plone.org//NONSGML plone.app.event//EN
X-WR-TIMEZONE:Brazil/East
BEGIN:VEVENT
SUMMARY:Audiência pública sobre a construção do novo cemitério munici
 pal
DTSTART;TZID=Brazil/East;VALUE=DATE-TIME:20171018T103000
DTEND;TZID=Brazil/East;VALUE=DATE-TIME:20171018T120000
DTSTAMP;VALUE=DATE-TIME:20260419T095649Z
UID:830a4b0b0f7c40719c32a2786175bee9@www.boavista.rr.leg.br
CREATED;VALUE=DATE-TIME:20171002T133800Z
DESCRIPTION:A Câmara Municipal de Boa Vista realiza no dia 25 de outubro\
 , no plenário Estácio Pereira de Mello\, uma audiência pública para tr
 atar sobre a construção do novo cemitério municipal da cidade\, tendo e
 m vista que o atual cemitério da capital está próximo de atingir sua ca
 pacidade máxima. O requerimento aprovado pelo plenário\, que solicita o 
 evento\, foi elaborado pelo presidente Mauricélio Fernandes (PMDB) e o vi
 ce-presidente Júlio Medeiros (Podemos).
LAST-MODIFIED;VALUE=DATE-TIME:20171018T123711Z
URL:https://www.boavista.rr.leg.br/institucional/eventos/audiencia-publica
 -sobre-a-construcao-do-novo-cemiterio-municipal
END:VEVENT
BEGIN:VTIMEZONE
TZID:Brazil/East
X-LIC-LOCATION:Brazil/East
BEGIN:DAYLIGHT
DTSTART;VALUE=DATE-TIME:20171015T010000
TZNAME:BRST
TZOFFSETFROM:-0300
TZOFFSETTO:-0200
END:DAYLIGHT
END:VTIMEZONE
END:VCALENDAR
